BEGIN:VCALENDAR
VERSION:2.0
PRODID:-//Exceptional Kids PTO - ECPv6.15.20//NONSGML v1.0//EN
CALSCALE:GREGORIAN
METHOD:PUBLISH
X-ORIGINAL-URL:https://ekpto.com
X-WR-CALDESC:Events for Exceptional Kids PTO
REFRESH-INTERVAL;VALUE=DURATION:PT1H
X-Robots-Tag:noindex
X-PUBLISHED-TTL:PT1H
BEGIN:VTIMEZONE
TZID:America/Los_Angeles
BEGIN:DAYLIGHT
TZOFFSETFROM:-0800
TZOFFSETTO:-0700
TZNAME:PDT
DTSTART:20220313T100000
END:DAYLIGHT
BEGIN:STANDARD
TZOFFSETFROM:-0700
TZOFFSETTO:-0800
TZNAME:PST
DTSTART:20221106T090000
END:STANDARD
BEGIN:DAYLIGHT
TZOFFSETFROM:-0800
TZOFFSETTO:-0700
TZNAME:PDT
DTSTART:20230312T100000
END:DAYLIGHT
BEGIN:STANDARD
TZOFFSETFROM:-0700
TZOFFSETTO:-0800
TZNAME:PST
DTSTART:20231105T090000
END:STANDARD
BEGIN:DAYLIGHT
TZOFFSETFROM:-0800
TZOFFSETTO:-0700
TZNAME:PDT
DTSTART:20240310T100000
END:DAYLIGHT
BEGIN:STANDARD
TZOFFSETFROM:-0700
TZOFFSETTO:-0800
TZNAME:PST
DTSTART:20241103T090000
END:STANDARD
BEGIN:DAYLIGHT
TZOFFSETFROM:-0800
TZOFFSETTO:-0700
TZNAME:PDT
DTSTART:20250309T100000
END:DAYLIGHT
BEGIN:STANDARD
TZOFFSETFROM:-0700
TZOFFSETTO:-0800
TZNAME:PST
DTSTART:20251102T090000
END:STANDARD
BEGIN:DAYLIGHT
TZOFFSETFROM:-0800
TZOFFSETTO:-0700
TZNAME:PDT
DTSTART:20260308T100000
END:DAYLIGHT
BEGIN:STANDARD
TZOFFSETFROM:-0700
TZOFFSETTO:-0800
TZNAME:PST
DTSTART:20261101T090000
END:STANDARD
END:VTIMEZONE
BEGIN:VEVENT
DTSTART;TZID=America/Los_Angeles:20231208T183000
DTEND;TZID=America/Los_Angeles:20231208T210000
DTSTAMP:20260421T175447
CREATED:20230719T171348Z
LAST-MODIFIED:20230719T171348Z
UID:10132-1702060200-1702069200@ekpto.com
SUMMARY:Holiday Dress Up Dance
DESCRIPTION:
URL:https://ekpto.com/event/holiday-dress-up-dance-2023/
LOCATION:American Martyrs – O’Donnell Hall\, 700 15th Street\, Manhattan Beach\, CA\, 90266\, United States
CATEGORIES:Dance
END:VEVENT
BEGIN:VEVENT
DTSTART;VALUE=DATE:20231220
DTEND;VALUE=DATE:20231221
DTSTAMP:20260421T175447
CREATED:20230922T215641Z
LAST-MODIFIED:20230922T215641Z
UID:10727-1703030400-1703116799@ekpto.com
SUMMARY:EKO December Board Meeting and Holiday Party
DESCRIPTION:Location and details TBD
URL:https://ekpto.com/event/eko-december-board-meeting-and-holiday-party-2023/
CATEGORIES:Board Meeting,Dance
END:VEVENT
BEGIN:VEVENT
DTSTART;TZID=America/Los_Angeles:20240112T183000
DTEND;TZID=America/Los_Angeles:20240112T210000
DTSTAMP:20260421T175447
CREATED:20230719T171431Z
LAST-MODIFIED:20230719T171431Z
UID:10134-1705084200-1705093200@ekpto.com
SUMMARY:New Years Dance
DESCRIPTION:
URL:https://ekpto.com/event/new-years-dance/
LOCATION:American Martyrs – O’Donnell Hall\, 700 15th Street\, Manhattan Beach\, CA\, 90266\, United States
CATEGORIES:Dance
END:VEVENT
BEGIN:VEVENT
DTSTART;TZID=America/Los_Angeles:20240117T181500
DTEND;TZID=America/Los_Angeles:20240117T200000
DTSTAMP:20260421T175447
CREATED:20230922T220302Z
LAST-MODIFIED:20230922T220302Z
UID:10737-1705515300-1705521600@ekpto.com
SUMMARY:EKO Board Meeting at American Martyrs Parish House
DESCRIPTION:All EKO Board meetings are open to our EKO families. We invite you to join us to see what’s coming up and to provide any input you might have to improve our services and events.
URL:https://ekpto.com/event/eko-board-meeting-jan-24/
LOCATION:American Martyrs Parish House\, 659th 15th Street\, Manhattan Beach\, CA\, 90266\, United States
CATEGORIES:Board Meeting
END:VEVENT
BEGIN:VEVENT
DTSTART;TZID=America/Los_Angeles:20240202T180000
DTEND;TZID=America/Los_Angeles:20240202T210000
DTSTAMP:20260421T175447
CREATED:20240118T002340Z
LAST-MODIFIED:20240118T002340Z
UID:11167-1706896800-1706907600@ekpto.com
SUMMARY:Sweetheart Pizza Dinner and Valentines Dance
DESCRIPTION:Sweetheart Pizza Dinner 6:00 – 6:30 \nFree pizza and salad for all please RSVP to Secretary@EKPTO.org \nValentines Dance 6:30 – 9:00 \n$1.00 entrance fee. Hot dogs\, sodas\, chips and cookies are .50 cents each. All dancers ages 14 and up are welcome.
URL:https://ekpto.com/event/sweetheart-pizza-dinner-and-valentines-dance/
LOCATION:American Martyrs School – Recreation room by the basketball courts\, 701 15th Street\, Manhattan Beach\, CA\, 90266\, United States
CATEGORIES:Dance
END:VEVENT
BEGIN:VEVENT
DTSTART;TZID=America/Los_Angeles:20240221T181500
DTEND;TZID=America/Los_Angeles:20240221T200000
DTSTAMP:20260421T175447
CREATED:20230922T220355Z
LAST-MODIFIED:20230922T220355Z
UID:10739-1708539300-1708545600@ekpto.com
SUMMARY:EKO Board Meeting at American Martyrs Parish House
DESCRIPTION:All EKO Board meetings are open to our EKO families. We invite you to join us to see what’s coming up and to provide any input you might have to improve our services and events.
URL:https://ekpto.com/event/eko-board-meeting-feb-24/
LOCATION:American Martyrs Parish House\, 659th 15th Street\, Manhattan Beach\, CA\, 90266\, United States
CATEGORIES:Board Meeting
END:VEVENT
BEGIN:VEVENT
DTSTART;TZID=America/Los_Angeles:20240310T120000
DTEND;TZID=America/Los_Angeles:20240310T140000
DTSTAMP:20260421T175447
CREATED:20240214T172941Z
LAST-MODIFIED:20240221T183455Z
UID:11266-1710072000-1710079200@ekpto.com
SUMMARY:Kite Day
DESCRIPTION:This fun event is held in conjunction with the Redondo Pier Kite Festival and is a blast. \nJoin us just south of the Redondo Pier from 12 noon – 2pm for a fun afternoon of flying kites and lunch on the sand. We’ll have our easy ups and banner so you can easily find us. The EKO will provide each family with a kite and will serve sandwiches\, chips and sodas and it’s all on us. \nRSVP: Email info@ekpto.org with how many in your group so we know how many kites and how much food to buy. \nWe recommend that you get there a little early so you can get parking as it will be very busy on the pier that day.
URL:https://ekpto.com/event/kite-day/
LOCATION:Redondo Pier
CATEGORIES:Other
END:VEVENT
BEGIN:VEVENT
DTSTART;TZID=America/Los_Angeles:20240315T183000
DTEND;TZID=America/Los_Angeles:20240315T210000
DTSTAMP:20260421T175447
CREATED:20240118T002435Z
LAST-MODIFIED:20240118T002435Z
UID:11169-1710527400-1710536400@ekpto.com
SUMMARY:St. Patrick’s Day Dance
DESCRIPTION:$1.00 entrance fee. Hot dogs\, sodas\, chips and cookies are .50 cents each. All dancers ages 14 and up are welcome.
URL:https://ekpto.com/event/st-patricks-day-dance/
LOCATION:American Martyrs School – Recreation room by the basketball courts\, 701 15th Street\, Manhattan Beach\, CA\, 90266\, United States
CATEGORIES:Dance
END:VEVENT
BEGIN:VEVENT
DTSTART;TZID=America/Los_Angeles:20240320T181500
DTEND;TZID=America/Los_Angeles:20240320T200000
DTSTAMP:20260421T175447
CREATED:20230922T220440Z
LAST-MODIFIED:20230922T220440Z
UID:10741-1710958500-1710964800@ekpto.com
SUMMARY:EKO Board Meeting at American Martyrs Parish House
DESCRIPTION:All EKO Board meetings are open to our EKO families. We invite you to join us to see what’s coming up and to provide any input you might have to improve our services and events.
URL:https://ekpto.com/event/eko-board-meeting-march-24/
LOCATION:American Martyrs Parish House\, 659th 15th Street\, Manhattan Beach\, CA\, 90266\, United States
CATEGORIES:Board Meeting
END:VEVENT
BEGIN:VEVENT
DTSTART;TZID=America/Los_Angeles:20240417T181500
DTEND;TZID=America/Los_Angeles:20240417T200000
DTSTAMP:20260421T175447
CREATED:20230922T220533Z
LAST-MODIFIED:20230922T220533Z
UID:10743-1713377700-1713384000@ekpto.com
SUMMARY:EKO Board Meeting at American Martyrs Parish House
DESCRIPTION:All EKO Board meetings are open to our EKO families. We invite you to join us to see what’s coming up and to provide any input you might have to improve our services and events.
URL:https://ekpto.com/event/eko-board-meeting-apr-24/
LOCATION:American Martyrs Parish House\, 659th 15th Street\, Manhattan Beach\, CA\, 90266\, United States
CATEGORIES:Board Meeting
END:VEVENT
BEGIN:VEVENT
DTSTART;TZID=America/Los_Angeles:20240419T183000
DTEND;TZID=America/Los_Angeles:20240419T210000
DTSTAMP:20260421T175447
CREATED:20240118T002537Z
LAST-MODIFIED:20240118T002537Z
UID:11171-1713551400-1713560400@ekpto.com
SUMMARY:Spring Splash Dance
DESCRIPTION:$1.00 entrance fee. Hot dogs\, hamburgers\, sodas\, chips and cookies are .50 cents each. All dancers ages 14 and up are welcome.
URL:https://ekpto.com/event/spring-splash-dance/
LOCATION:American Martyrs – O’Donnell Hall\, 700 15th Street\, Manhattan Beach\, CA\, 90266\, United States
CATEGORIES:Dance
END:VEVENT
BEGIN:VEVENT
DTSTART;TZID=America/Los_Angeles:20240515T181500
DTEND;TZID=America/Los_Angeles:20240515T200000
DTSTAMP:20260421T175447
CREATED:20230922T220616Z
LAST-MODIFIED:20230922T220616Z
UID:10745-1715796900-1715803200@ekpto.com
SUMMARY:EKO Board Meeting at American Martyrs Parish House
DESCRIPTION:All EKO Board meetings are open to our EKO families. We invite you to join us to see what’s coming up and to provide any input you might have to improve our services and events.
URL:https://ekpto.com/event/eko-board-meeting-may-24/
LOCATION:American Martyrs Parish House\, 659th 15th Street\, Manhattan Beach\, CA\, 90266\, United States
CATEGORIES:Board Meeting
END:VEVENT
BEGIN:VEVENT
DTSTART;TZID=America/Los_Angeles:20240531T183000
DTEND;TZID=America/Los_Angeles:20240531T223000
DTSTAMP:20260421T175447
CREATED:20240118T002705Z
LAST-MODIFIED:20250317T172224Z
UID:11173-1717180200-1717194600@ekpto.com
SUMMARY:EKO Prom 2024
DESCRIPTION:Join us for the 2024 EKO Prom\, A Night In The Emerald City. \n\nDisc Jockey\nAppetizer Buffet\nEntertainment\nTicket prices:\n\n$25 prior to May 31\n$35 at the door\n\n\n\nAppropriate semi-formal dress required. No jeans\, t-shirts\, hats\, caps\, etc. \nEveryone attending must have a ticket\, including parents and chaperones. \nPlease Purchase Your Tickets at the Door.
URL:https://ekpto.com/event/prom-2024/
LOCATION:Manhattan Beach WestDrift Hotel\, 1400 Parkview Ave\, Manhattan Beach\, CA\, 90266\, United States
CATEGORIES:Dance
ATTACH;FMTTYPE=image/jpeg:https://ekpto.com/wp-content/uploads/2024/01/Prom-Flier-2024-1.jpg
END:VEVENT
BEGIN:VEVENT
DTSTART;TZID=America/Los_Angeles:20240619T181500
DTEND;TZID=America/Los_Angeles:20240619T200000
DTSTAMP:20260421T175447
CREATED:20230922T220655Z
LAST-MODIFIED:20230922T220655Z
UID:10747-1718820900-1718827200@ekpto.com
SUMMARY:EKO Board Meeting at American Martyrs Parish House
DESCRIPTION:All EKO Board meetings are open to our EKO families. We invite you to join us to see what’s coming up and to provide any input you might have to improve our services and events.
URL:https://ekpto.com/event/eko-board-meeting-jun-24/
LOCATION:American Martyrs Parish House\, 659th 15th Street\, Manhattan Beach\, CA\, 90266\, United States
CATEGORIES:Board Meeting
END:VEVENT
BEGIN:VEVENT
DTSTART;TZID=America/Los_Angeles:20240628T183000
DTEND;TZID=America/Los_Angeles:20240628T210000
DTSTAMP:20260421T175447
CREATED:20240508T163616Z
LAST-MODIFIED:20240508T163616Z
UID:11548-1719599400-1719608400@ekpto.com
SUMMARY:Karaoke Dance Night
DESCRIPTION:$1.00 entrance fee. Hot dogs\, hamburgers\, sodas\, chips and cookies are .50 cents each. All dancers ages 14 and up are welcome.
URL:https://ekpto.com/event/karaoke-dance-night/
LOCATION:American Martyrs – O’Donnell Hall\, 700 15th Street\, Manhattan Beach\, CA\, 90266\, United States
CATEGORIES:Dance
END:VEVENT
BEGIN:VEVENT
DTSTART;TZID=America/Los_Angeles:20240712T183000
DTEND;TZID=America/Los_Angeles:20240712T210000
DTSTAMP:20260421T175447
CREATED:20240508T163704Z
LAST-MODIFIED:20240508T163704Z
UID:11550-1720809000-1720818000@ekpto.com
SUMMARY:Ice Cream Social Dance
DESCRIPTION:$1.00 entrance fee. Hot dogs\, hamburgers\, sodas\, chips and cookies are .50 cents each. All dancers ages 14 and up are welcome.
URL:https://ekpto.com/event/ice-cream-social-dance/
LOCATION:American Martyrs – O’Donnell Hall\, 700 15th Street\, Manhattan Beach\, CA\, 90266\, United States
CATEGORIES:Dance
END:VEVENT
BEGIN:VEVENT
DTSTART;TZID=America/Los_Angeles:20240717T181500
DTEND;TZID=America/Los_Angeles:20240717T200000
DTSTAMP:20260421T175447
CREATED:20230922T220744Z
LAST-MODIFIED:20230922T220744Z
UID:10749-1721240100-1721246400@ekpto.com
SUMMARY:EKO Board Meeting at American Martyrs Parish House
DESCRIPTION:All EKO Board meetings are open to our EKO families. We invite you to join us to see what’s coming up and to provide any input you might have to improve our services and events.
URL:https://ekpto.com/event/eko-board-meeting-july-24/
LOCATION:American Martyrs Parish House\, 659th 15th Street\, Manhattan Beach\, CA\, 90266\, United States
CATEGORIES:Board Meeting
END:VEVENT
BEGIN:VEVENT
DTSTART;TZID=America/Los_Angeles:20240809T183000
DTEND;TZID=America/Los_Angeles:20240809T210000
DTSTAMP:20260421T175447
CREATED:20240508T163738Z
LAST-MODIFIED:20240508T163738Z
UID:11552-1723228200-1723237200@ekpto.com
SUMMARY:Western Hoedown
DESCRIPTION:$1.00 entrance fee. Hot dogs\, hamburgers\, sodas\, chips and cookies are .50 cents each. All dancers ages 14 and up are welcome.
URL:https://ekpto.com/event/western-hoedown/
LOCATION:American Martyrs – O’Donnell Hall\, 700 15th Street\, Manhattan Beach\, CA\, 90266\, United States
CATEGORIES:Dance
END:VEVENT
BEGIN:VEVENT
DTSTART;TZID=America/Los_Angeles:20240821T181500
DTEND;TZID=America/Los_Angeles:20240821T200000
DTSTAMP:20260421T175447
CREATED:20230922T220837Z
LAST-MODIFIED:20240820T214255Z
UID:10751-1724264100-1724270400@ekpto.com
SUMMARY:EKO Board Meeting at American Martyrs\, Our Lady of Miraculous Medal Room (Adjacent to O'Donnell Hall)
DESCRIPTION:All EKO Board meetings are open to our EKO families. We invite you to join us to see what’s coming up and to provide any input you might have to improve our services and events.
URL:https://ekpto.com/event/eko-board-meeting-aug-24/
LOCATION:American Martyrs\, Our Lady of Miraculous Medal Room (Adjacent to O’Donnell Hall)\, 700 15th St\, Manhattan Beach\, CA\, United States
CATEGORIES:Board Meeting
END:VEVENT
BEGIN:VEVENT
DTSTART;TZID=America/Los_Angeles:20240918T181500
DTEND;TZID=America/Los_Angeles:20240918T200000
DTSTAMP:20260421T175447
CREATED:20230922T220921Z
LAST-MODIFIED:20240820T215256Z
UID:10753-1726683300-1726689600@ekpto.com
SUMMARY:EKO Board Meeting at American Martyrs\, Our Lady of Miraculous Medal Room (Adjacent to O'Donnell Hall)
DESCRIPTION:All EKO Board meetings are open to our EKO families. We invite you to join us to see what’s coming up and to provide any input you might have to improve our services and events.
URL:https://ekpto.com/event/eko-board-meeting-sep-24/
LOCATION:American Martyrs\, Our Lady of Miraculous Medal Room (Adjacent to O’Donnell Hall)\, 700 15th St\, Manhattan Beach\, CA\, United States
CATEGORIES:Board Meeting
END:VEVENT
BEGIN:VEVENT
DTSTART;TZID=America/Los_Angeles:20240927T183000
DTEND;TZID=America/Los_Angeles:20240927T210000
DTSTAMP:20260421T175447
CREATED:20240820T215536Z
LAST-MODIFIED:20240826T155052Z
UID:11867-1727461800-1727470800@ekpto.com
SUMMARY:Wear Your Favorite Team Jersey
DESCRIPTION:$1.00 entrance fee. Hot dogs\, hamburgers\, sodas\, chips and cookies are .50 cents each. All dancers ages 14 and up are welcome.
URL:https://ekpto.com/event/wear-your-favorite-team-jersey/
LOCATION:American Martyrs – O’Donnell Hall\, 700 15th Street\, Manhattan Beach\, CA\, 90266\, United States
CATEGORIES:Dance
END:VEVENT
BEGIN:VEVENT
DTSTART;TZID=America/Los_Angeles:20241016T181500
DTEND;TZID=America/Los_Angeles:20241016T200000
DTSTAMP:20260421T175447
CREATED:20230922T221014Z
LAST-MODIFIED:20240820T215331Z
UID:10755-1729102500-1729108800@ekpto.com
SUMMARY:EKO Board Meeting at American Martyrs\, Our Lady of Miraculous Medal Room (Adjacent to O'Donnell Hall)
DESCRIPTION:All EKO Board meetings are open to our EKO families. We invite you to join us to see what’s coming up and to provide any input you might have to improve our services and events.
URL:https://ekpto.com/event/eko-board-meeting-oct-24/
LOCATION:American Martyrs\, Our Lady of Miraculous Medal Room (Adjacent to O’Donnell Hall)\, 700 15th St\, Manhattan Beach\, CA\, United States
CATEGORIES:Board Meeting
END:VEVENT
BEGIN:VEVENT
DTSTART;TZID=America/Los_Angeles:20241025T183000
DTEND;TZID=America/Los_Angeles:20241025T210000
DTSTAMP:20260421T175447
CREATED:20240820T215628Z
LAST-MODIFIED:20240826T155046Z
UID:11870-1729881000-1729890000@ekpto.com
SUMMARY:Halloween Dance
DESCRIPTION:$1.00 entrance fee. Hot dogs\, hamburgers\, sodas\, chips and cookies are .50 cents each. All dancers ages 14 and up are welcome.
URL:https://ekpto.com/event/halloween-dance-2024/
LOCATION:American Martyrs – O’Donnell Hall\, 700 15th Street\, Manhattan Beach\, CA\, 90266\, United States
CATEGORIES:Dance
END:VEVENT
BEGIN:VEVENT
DTSTART;TZID=America/Los_Angeles:20241115T183000
DTEND;TZID=America/Los_Angeles:20241115T210000
DTSTAMP:20260421T175447
CREATED:20240820T215654Z
LAST-MODIFIED:20240826T155043Z
UID:11872-1731695400-1731704400@ekpto.com
SUMMARY:Talent Show
DESCRIPTION:$1.00 entrance fee. Hot dogs\, hamburgers\, sodas\, chips and cookies are .50 cents each. All dancers ages 14 and up are welcome.
URL:https://ekpto.com/event/talent-show-2024/
LOCATION:American Martyrs – O’Donnell Hall\, 700 15th Street\, Manhattan Beach\, CA\, 90266\, United States
CATEGORIES:Dance
END:VEVENT
BEGIN:VEVENT
DTSTART;TZID=America/Los_Angeles:20241120T181500
DTEND;TZID=America/Los_Angeles:20241120T200000
DTSTAMP:20260421T175447
CREATED:20230922T221221Z
LAST-MODIFIED:20240820T215305Z
UID:10757-1732126500-1732132800@ekpto.com
SUMMARY:EKO Board Meeting at American Martyrs\, Our Lady of Miraculous Medal Room (Adjacent to O'Donnell Hall)
DESCRIPTION:All EKO Board meetings are open to our EKO families. We invite you to join us to see what’s coming up and to provide any input you might have to improve our services and events.
URL:https://ekpto.com/event/eko-board-meeting-nov-24/
LOCATION:American Martyrs\, Our Lady of Miraculous Medal Room (Adjacent to O’Donnell Hall)\, 700 15th St\, Manhattan Beach\, CA\, United States
CATEGORIES:Board Meeting
END:VEVENT
BEGIN:VEVENT
DTSTART;TZID=America/Los_Angeles:20241206T183000
DTEND;TZID=America/Los_Angeles:20241206T210000
DTSTAMP:20260421T175447
CREATED:20240820T215724Z
LAST-MODIFIED:20240826T155024Z
UID:11874-1733509800-1733518800@ekpto.com
SUMMARY:Holiday Dress-Up Dance
DESCRIPTION:$1.00 entrance fee. Hot dogs\, hamburgers\, sodas\, chips and cookies are .50 cents each. All dancers ages 14 and up are welcome.
URL:https://ekpto.com/event/holiday-dress-up-dance-2024/
LOCATION:American Martyrs – O’Donnell Hall\, 700 15th Street\, Manhattan Beach\, CA\, 90266\, United States
CATEGORIES:Dance
END:VEVENT
BEGIN:VEVENT
DTSTART;TZID=America/Los_Angeles:20241218T181500
DTEND;TZID=America/Los_Angeles:20241218T200000
DTSTAMP:20260421T175447
CREATED:20230922T215756Z
LAST-MODIFIED:20240820T214659Z
UID:10729-1734545700-1734552000@ekpto.com
SUMMARY:EKO December Board Meeting at American Martyrs\, St. Mother Theresa Room (Adjacent to O'Donnell Hall)
DESCRIPTION:All EKO Board meetings are open to our EKO families. We invite you to join us to see what’s coming up and to provide any input you might have to improve our services and events.
URL:https://ekpto.com/event/eko-december-board-meeting-dec-18/
LOCATION:American Martyrs\, St. Mother Theresa Room (Adjacent to O’Donnell Hall)\, 700 15th St\, Manhattan Beach\, CA\, United States
CATEGORIES:Board Meeting
END:VEVENT
BEGIN:VEVENT
DTSTART;TZID=America/Los_Angeles:20250115T181500
DTEND;TZID=America/Los_Angeles:20250115T200000
DTSTAMP:20260421T175447
CREATED:20240820T214935Z
LAST-MODIFIED:20240820T215315Z
UID:11846-1736964900-1736971200@ekpto.com
SUMMARY:EKO Board Meeting at American Martyrs\, Our Lady of Miraculous Medal Room (Adjacent to O'Donnell Hall)
DESCRIPTION:All EKO Board meetings are open to our EKO families. We invite you to join us to see what’s coming up and to provide any input you might have to improve our services and events.
URL:https://ekpto.com/event/eko-board-meeting-jan-15/
LOCATION:American Martyrs\, Our Lady of Miraculous Medal Room (Adjacent to O’Donnell Hall)\, 700 15th St\, Manhattan Beach\, CA\, United States
CATEGORIES:Board Meeting
END:VEVENT
BEGIN:VEVENT
DTSTART;TZID=America/Los_Angeles:20250124T183000
DTEND;TZID=America/Los_Angeles:20250124T210000
DTSTAMP:20260421T175447
CREATED:20240820T215759Z
LAST-MODIFIED:20240826T155015Z
UID:11876-1737743400-1737752400@ekpto.com
SUMMARY:New Years Dance
DESCRIPTION:$1.00 entrance fee. Hot dogs\, hamburgers\, sodas\, chips and cookies are .50 cents each. All dancers ages 14 and up are welcome.
URL:https://ekpto.com/event/new-years-dance-2024/
LOCATION:American Martyrs – O’Donnell Hall\, 700 15th Street\, Manhattan Beach\, CA\, 90266\, United States
CATEGORIES:Dance
END:VEVENT
BEGIN:VEVENT
DTSTART;TZID=America/Los_Angeles:20250201T120000
DTEND;TZID=America/Los_Angeles:20250201T160000
DTSTAMP:20260421T175447
CREATED:20241211T173837Z
LAST-MODIFIED:20241211T173837Z
UID:12191-1738411200-1738425600@ekpto.com
SUMMARY:Mardi Gras Masquerade: 2025 Fundraiser and Prom Preview
DESCRIPTION:Join us for an afternoon of friends\, food and music and help support the EKO 2025 Prom and activities throughout the year. \n\nBuffet Luncheon with appetizers and dessert\nBeer and Wine included\nSilent and Live auction Items\nMusic and Entertainment by Blue Bonz Band and our own EKO talented entertainers\n\nTicket Price: $80 RSVP required
URL:https://ekpto.com/event/mardi-gras-masquerade-2025-fundraiser-and-prom-preview/
LOCATION:American Martyrs – O’Donnell Hall\, 700 15th Street\, Manhattan Beach\, CA\, 90266\, United States
CATEGORIES:Entertainment
ATTACH;FMTTYPE=image/jpeg:https://ekpto.com/wp-content/uploads/2024/12/fundraiser-2025.jpg
END:VEVENT
END:VCALENDAR