BEGIN:VCALENDAR
VERSION:2.0
PRODID:-//Exceptional Kids PTO - ECPv6.15.20//NONSGML v1.0//EN
CALSCALE:GREGORIAN
METHOD:PUBLISH
X-WR-CALNAME:Exceptional Kids PTO
X-ORIGINAL-URL:https://ekpto.com
X-WR-CALDESC:Events for Exceptional Kids PTO
REFRESH-INTERVAL;VALUE=DURATION:PT1H
X-Robots-Tag:noindex
X-PUBLISHED-TTL:PT1H
BEGIN:VTIMEZONE
TZID:America/Los_Angeles
BEGIN:DAYLIGHT
TZOFFSETFROM:-0800
TZOFFSETTO:-0700
TZNAME:PDT
DTSTART:20210314T100000
END:DAYLIGHT
BEGIN:STANDARD
TZOFFSETFROM:-0700
TZOFFSETTO:-0800
TZNAME:PST
DTSTART:20211107T090000
END:STANDARD
BEGIN:DAYLIGHT
TZOFFSETFROM:-0800
TZOFFSETTO:-0700
TZNAME:PDT
DTSTART:20220313T100000
END:DAYLIGHT
BEGIN:STANDARD
TZOFFSETFROM:-0700
TZOFFSETTO:-0800
TZNAME:PST
DTSTART:20221106T090000
END:STANDARD
BEGIN:DAYLIGHT
TZOFFSETFROM:-0800
TZOFFSETTO:-0700
TZNAME:PDT
DTSTART:20230312T100000
END:DAYLIGHT
BEGIN:STANDARD
TZOFFSETFROM:-0700
TZOFFSETTO:-0800
TZNAME:PST
DTSTART:20231105T090000
END:STANDARD
BEGIN:DAYLIGHT
TZOFFSETFROM:-0800
TZOFFSETTO:-0700
TZNAME:PDT
DTSTART:20240310T100000
END:DAYLIGHT
BEGIN:STANDARD
TZOFFSETFROM:-0700
TZOFFSETTO:-0800
TZNAME:PST
DTSTART:20241103T090000
END:STANDARD
BEGIN:DAYLIGHT
TZOFFSETFROM:-0800
TZOFFSETTO:-0700
TZNAME:PDT
DTSTART:20250309T100000
END:DAYLIGHT
BEGIN:STANDARD
TZOFFSETFROM:-0700
TZOFFSETTO:-0800
TZNAME:PST
DTSTART:20251102T090000
END:STANDARD
END:VTIMEZONE
BEGIN:VEVENT
DTSTART;TZID=America/Los_Angeles:20240419T183000
DTEND;TZID=America/Los_Angeles:20240419T210000
DTSTAMP:20260422T154809
CREATED:20240118T002537Z
LAST-MODIFIED:20240118T002537Z
UID:11171-1713551400-1713560400@ekpto.com
SUMMARY:Spring Splash Dance
DESCRIPTION:$1.00 entrance fee. Hot dogs\, hamburgers\, sodas\, chips and cookies are .50 cents each. All dancers ages 14 and up are welcome.
URL:https://ekpto.com/event/spring-splash-dance/
LOCATION:American Martyrs – O’Donnell Hall\, 700 15th Street\, Manhattan Beach\, CA\, 90266\, United States
CATEGORIES:Dance
END:VEVENT
BEGIN:VEVENT
DTSTART;TZID=America/Los_Angeles:20240417T181500
DTEND;TZID=America/Los_Angeles:20240417T200000
DTSTAMP:20260422T154809
CREATED:20230922T220533Z
LAST-MODIFIED:20230922T220533Z
UID:10743-1713377700-1713384000@ekpto.com
SUMMARY:EKO Board Meeting at American Martyrs Parish House
DESCRIPTION:All EKO Board meetings are open to our EKO families. We invite you to join us to see what’s coming up and to provide any input you might have to improve our services and events.
URL:https://ekpto.com/event/eko-board-meeting-apr-24/
LOCATION:American Martyrs Parish House\, 659th 15th Street\, Manhattan Beach\, CA\, 90266\, United States
CATEGORIES:Board Meeting
END:VEVENT
BEGIN:VEVENT
DTSTART;TZID=America/Los_Angeles:20240320T181500
DTEND;TZID=America/Los_Angeles:20240320T200000
DTSTAMP:20260422T154809
CREATED:20230922T220440Z
LAST-MODIFIED:20230922T220440Z
UID:10741-1710958500-1710964800@ekpto.com
SUMMARY:EKO Board Meeting at American Martyrs Parish House
DESCRIPTION:All EKO Board meetings are open to our EKO families. We invite you to join us to see what’s coming up and to provide any input you might have to improve our services and events.
URL:https://ekpto.com/event/eko-board-meeting-march-24/
LOCATION:American Martyrs Parish House\, 659th 15th Street\, Manhattan Beach\, CA\, 90266\, United States
CATEGORIES:Board Meeting
END:VEVENT
BEGIN:VEVENT
DTSTART;TZID=America/Los_Angeles:20240315T183000
DTEND;TZID=America/Los_Angeles:20240315T210000
DTSTAMP:20260422T154809
CREATED:20240118T002435Z
LAST-MODIFIED:20240118T002435Z
UID:11169-1710527400-1710536400@ekpto.com
SUMMARY:St. Patrick’s Day Dance
DESCRIPTION:$1.00 entrance fee. Hot dogs\, sodas\, chips and cookies are .50 cents each. All dancers ages 14 and up are welcome.
URL:https://ekpto.com/event/st-patricks-day-dance/
LOCATION:American Martyrs School – Recreation room by the basketball courts\, 701 15th Street\, Manhattan Beach\, CA\, 90266\, United States
CATEGORIES:Dance
END:VEVENT
BEGIN:VEVENT
DTSTART;TZID=America/Los_Angeles:20240310T120000
DTEND;TZID=America/Los_Angeles:20240310T140000
DTSTAMP:20260422T154809
CREATED:20240214T172941Z
LAST-MODIFIED:20240221T183455Z
UID:11266-1710072000-1710079200@ekpto.com
SUMMARY:Kite Day
DESCRIPTION:This fun event is held in conjunction with the Redondo Pier Kite Festival and is a blast. \nJoin us just south of the Redondo Pier from 12 noon – 2pm for a fun afternoon of flying kites and lunch on the sand. We’ll have our easy ups and banner so you can easily find us. The EKO will provide each family with a kite and will serve sandwiches\, chips and sodas and it’s all on us. \nRSVP: Email info@ekpto.org with how many in your group so we know how many kites and how much food to buy. \nWe recommend that you get there a little early so you can get parking as it will be very busy on the pier that day.
URL:https://ekpto.com/event/kite-day/
LOCATION:Redondo Pier
CATEGORIES:Other
END:VEVENT
BEGIN:VEVENT
DTSTART;TZID=America/Los_Angeles:20240221T181500
DTEND;TZID=America/Los_Angeles:20240221T200000
DTSTAMP:20260422T154809
CREATED:20230922T220355Z
LAST-MODIFIED:20230922T220355Z
UID:10739-1708539300-1708545600@ekpto.com
SUMMARY:EKO Board Meeting at American Martyrs Parish House
DESCRIPTION:All EKO Board meetings are open to our EKO families. We invite you to join us to see what’s coming up and to provide any input you might have to improve our services and events.
URL:https://ekpto.com/event/eko-board-meeting-feb-24/
LOCATION:American Martyrs Parish House\, 659th 15th Street\, Manhattan Beach\, CA\, 90266\, United States
CATEGORIES:Board Meeting
END:VEVENT
BEGIN:VEVENT
DTSTART;TZID=America/Los_Angeles:20240202T180000
DTEND;TZID=America/Los_Angeles:20240202T210000
DTSTAMP:20260422T154809
CREATED:20240118T002340Z
LAST-MODIFIED:20240118T002340Z
UID:11167-1706896800-1706907600@ekpto.com
SUMMARY:Sweetheart Pizza Dinner and Valentines Dance
DESCRIPTION:Sweetheart Pizza Dinner 6:00 – 6:30 \nFree pizza and salad for all please RSVP to Secretary@EKPTO.org \nValentines Dance 6:30 – 9:00 \n$1.00 entrance fee. Hot dogs\, sodas\, chips and cookies are .50 cents each. All dancers ages 14 and up are welcome.
URL:https://ekpto.com/event/sweetheart-pizza-dinner-and-valentines-dance/
LOCATION:American Martyrs School – Recreation room by the basketball courts\, 701 15th Street\, Manhattan Beach\, CA\, 90266\, United States
CATEGORIES:Dance
END:VEVENT
BEGIN:VEVENT
DTSTART;TZID=America/Los_Angeles:20240117T181500
DTEND;TZID=America/Los_Angeles:20240117T200000
DTSTAMP:20260422T154809
CREATED:20230922T220302Z
LAST-MODIFIED:20230922T220302Z
UID:10737-1705515300-1705521600@ekpto.com
SUMMARY:EKO Board Meeting at American Martyrs Parish House
DESCRIPTION:All EKO Board meetings are open to our EKO families. We invite you to join us to see what’s coming up and to provide any input you might have to improve our services and events.
URL:https://ekpto.com/event/eko-board-meeting-jan-24/
LOCATION:American Martyrs Parish House\, 659th 15th Street\, Manhattan Beach\, CA\, 90266\, United States
CATEGORIES:Board Meeting
END:VEVENT
BEGIN:VEVENT
DTSTART;TZID=America/Los_Angeles:20240112T183000
DTEND;TZID=America/Los_Angeles:20240112T210000
DTSTAMP:20260422T154809
CREATED:20230719T171431Z
LAST-MODIFIED:20230719T171431Z
UID:10134-1705084200-1705093200@ekpto.com
SUMMARY:New Years Dance
DESCRIPTION:
URL:https://ekpto.com/event/new-years-dance/
LOCATION:American Martyrs – O’Donnell Hall\, 700 15th Street\, Manhattan Beach\, CA\, 90266\, United States
CATEGORIES:Dance
END:VEVENT
BEGIN:VEVENT
DTSTART;VALUE=DATE:20231220
DTEND;VALUE=DATE:20231221
DTSTAMP:20260422T154809
CREATED:20230922T215641Z
LAST-MODIFIED:20230922T215641Z
UID:10727-1703030400-1703116799@ekpto.com
SUMMARY:EKO December Board Meeting and Holiday Party
DESCRIPTION:Location and details TBD
URL:https://ekpto.com/event/eko-december-board-meeting-and-holiday-party-2023/
CATEGORIES:Board Meeting,Dance
END:VEVENT
BEGIN:VEVENT
DTSTART;TZID=America/Los_Angeles:20231208T183000
DTEND;TZID=America/Los_Angeles:20231208T210000
DTSTAMP:20260422T154809
CREATED:20230719T171348Z
LAST-MODIFIED:20230719T171348Z
UID:10132-1702060200-1702069200@ekpto.com
SUMMARY:Holiday Dress Up Dance
DESCRIPTION:
URL:https://ekpto.com/event/holiday-dress-up-dance-2023/
LOCATION:American Martyrs – O’Donnell Hall\, 700 15th Street\, Manhattan Beach\, CA\, 90266\, United States
CATEGORIES:Dance
END:VEVENT
BEGIN:VEVENT
DTSTART;TZID=America/Los_Angeles:20231117T183000
DTEND;TZID=America/Los_Angeles:20231117T210000
DTSTAMP:20260422T154809
CREATED:20230719T171225Z
LAST-MODIFIED:20230719T171225Z
UID:10130-1700245800-1700254800@ekpto.com
SUMMARY:Talent Show
DESCRIPTION:
URL:https://ekpto.com/event/talent-show/
LOCATION:American Martyrs – O’Donnell Hall\, 700 15th Street\, Manhattan Beach\, CA\, 90266\, United States
CATEGORIES:Dance
END:VEVENT
BEGIN:VEVENT
DTSTART;TZID=America/Los_Angeles:20231115T181500
DTEND;TZID=America/Los_Angeles:20231115T200000
DTSTAMP:20260422T154809
CREATED:20230922T220132Z
LAST-MODIFIED:20230922T220132Z
UID:10735-1700072100-1700078400@ekpto.com
SUMMARY:EKO Board Meeting at American Martyrs Parish House
DESCRIPTION:All EKO Board meetings are open to our EKO families. We invite you to join us to see what’s coming up and to provide any input you might have to improve our services and events.
URL:https://ekpto.com/event/eko-board-meeting-nov-23/
LOCATION:American Martyrs Parish House\, 659th 15th Street\, Manhattan Beach\, CA\, 90266\, United States
CATEGORIES:Board Meeting
END:VEVENT
BEGIN:VEVENT
DTSTART;TZID=America/Los_Angeles:20231027T183000
DTEND;TZID=America/Los_Angeles:20231027T210000
DTSTAMP:20260422T154809
CREATED:20230719T171133Z
LAST-MODIFIED:20230719T171133Z
UID:10128-1698431400-1698440400@ekpto.com
SUMMARY:Halloween Dance
DESCRIPTION:
URL:https://ekpto.com/event/halloween-dance/
LOCATION:American Martyrs – O’Donnell Hall\, 700 15th Street\, Manhattan Beach\, CA\, 90266\, United States
CATEGORIES:Dance
END:VEVENT
BEGIN:VEVENT
DTSTART;TZID=America/Los_Angeles:20231018T181500
DTEND;TZID=America/Los_Angeles:20231018T200000
DTSTAMP:20260422T154809
CREATED:20230922T215954Z
LAST-MODIFIED:20230922T220025Z
UID:10731-1697652900-1697659200@ekpto.com
SUMMARY:EKO Board Meeting at American Martyrs Parish House
DESCRIPTION:All EKO Board meetings are open to our EKO families. We invite you to join us to see what’s coming up and to provide any input you might have to improve our services and events.
URL:https://ekpto.com/event/eko-board-meeting-oct-23/
LOCATION:American Martyrs Parish House\, 659th 15th Street\, Manhattan Beach\, CA\, 90266\, United States
CATEGORIES:Board Meeting
END:VEVENT
BEGIN:VEVENT
DTSTART;TZID=America/Los_Angeles:20230908T183000
DTEND;TZID=America/Los_Angeles:20230908T210000
DTSTAMP:20260422T154809
CREATED:20230627T210406Z
LAST-MODIFIED:20230627T210406Z
UID:9860-1694197800-1694206800@ekpto.com
SUMMARY:Welcome Fall Dance
DESCRIPTION:Wear your favorite sports team shirt!
URL:https://ekpto.com/event/welcome-fall-dance/
LOCATION:American Martyrs – O’Donnell Hall\, 700 15th Street\, Manhattan Beach\, CA\, 90266\, United States
END:VEVENT
BEGIN:VEVENT
DTSTART;TZID=America/Los_Angeles:20230811T183000
DTEND;TZID=America/Los_Angeles:20230811T210000
DTSTAMP:20260422T154809
CREATED:20230627T210321Z
LAST-MODIFIED:20230627T210321Z
UID:9858-1691778600-1691787600@ekpto.com
SUMMARY:Ice Cream Social and Sock Hop Dance
DESCRIPTION:
URL:https://ekpto.com/event/ice-cream-social-and-sock-hop-dance/
LOCATION:American Martyrs – O’Donnell Hall\, 700 15th Street\, Manhattan Beach\, CA\, 90266\, United States
CATEGORIES:Dance
END:VEVENT
BEGIN:VEVENT
DTSTART;TZID=America/Los_Angeles:20230707T183000
DTEND;TZID=America/Los_Angeles:20230707T210000
DTSTAMP:20260422T154809
CREATED:20230627T210247Z
LAST-MODIFIED:20230627T210247Z
UID:9856-1688754600-1688763600@ekpto.com
SUMMARY:Western Hoe Down Dance
DESCRIPTION:
URL:https://ekpto.com/event/western-hoe-down-dance/
LOCATION:American Martyrs – O’Donnell Hall\, 700 15th Street\, Manhattan Beach\, CA\, 90266\, United States
CATEGORIES:Dance
END:VEVENT
BEGIN:VEVENT
DTSTART;TZID=America/Los_Angeles:20230602T190000
DTEND;TZID=America/Los_Angeles:20230602T223000
DTSTAMP:20260422T154809
CREATED:20221201T224032Z
LAST-MODIFIED:20230526T220050Z
UID:8077-1685732400-1685745000@ekpto.com
SUMMARY:EKO Prom 2023
DESCRIPTION:Join us for the 2023 EKO Prom\, An Evening In Wonderland. \n\nDisc Jockey\nAppetizer Buffet\nEntertainment\nTicket prices:\n\n$25 prior to May 31\n$35 at the door\n\n\n\nAppropriate semi-formal dress required. No jeans\, t-shirts\, hats\, caps\, etc. \nEveryone attending must have a ticket\, including parents and chaperones.\nPurchase tickets here:
URL:https://ekpto.com/event/eko-prom-2023/
LOCATION:Manhattan Beach WestDrift Hotel\, 1400 Parkview Ave\, Manhattan Beach\, CA\, 90266\, United States
CATEGORIES:Dance
ATTACH;FMTTYPE=image/jpeg:https://ekpto.com/wp-content/uploads/2022/12/Prom-Flier-2023.jpg
END:VEVENT
BEGIN:VEVENT
DTSTART;TZID=America/Los_Angeles:20230429T120000
DTEND;TZID=America/Los_Angeles:20230429T150000
DTSTAMP:20260422T154809
CREATED:20230222T173312Z
LAST-MODIFIED:20230505T201107Z
UID:8752-1682769600-1682780400@ekpto.com
SUMMARY:2023 EKO Fundraiser: An Afternoon in Wonderland
DESCRIPTION:Join us for an afternoon of friends\, food and music and help support the EKO 2023 Prom and activities throughout the year. \n\nBuffet Luncheon with appetizers and dessert\nSilent and Live auction items\nMusic and Entertainment by Abracadabra and our own EKO talented entertainers\nTicket prices:\n\nStandard Ticket: $65 – Includes Lunch and two bar drinks (wine and beer)\nDeluxe Ticket: $75 – Includes Lunch and four bar drinks\n\n\n\nRSVP Required\nPurchase tickets here: \n\n \n\n\n\nChoose desired option\n\n\nStandard Ticket (2 bar drinks) $65.00 USDDeluxe Ticket (4 bar drinks) $75.00 USD
URL:https://ekpto.com/event/2023-eko-fundraiser-an-afternoon-in-wonderland/
LOCATION:American Martyrs – O’Donnell Hall\, 700 15th Street\, Manhattan Beach\, CA\, 90266\, United States
CATEGORIES:Other
ATTACH;FMTTYPE=image/jpeg:https://ekpto.com/wp-content/uploads/2023/02/2023-FUNDRAISER-FLIER-scaled.jpg
END:VEVENT
BEGIN:VEVENT
DTSTART;TZID=America/Los_Angeles:20230421T183000
DTEND;TZID=America/Los_Angeles:20230421T210000
DTSTAMP:20260422T154809
CREATED:20221201T223922Z
LAST-MODIFIED:20221202T201534Z
UID:8075-1682101800-1682110800@ekpto.com
SUMMARY:Spring Is Here Dance
DESCRIPTION:$1.00 entrance fee. Hot dogs\, hamburgers\, sodas\, chips and cookies are .50 cents each. All dancers ages 14 and up are welcome.
URL:https://ekpto.com/event/spring-is-here-dance/
LOCATION:American Martyrs – O’Donnell Hall\, 700 15th Street\, Manhattan Beach\, CA\, 90266\, United States
CATEGORIES:Dance
END:VEVENT
BEGIN:VEVENT
DTSTART;TZID=America/Los_Angeles:20230317T183000
DTEND;TZID=America/Los_Angeles:20230317T210000
DTSTAMP:20260422T154809
CREATED:20221202T202612Z
LAST-MODIFIED:20221202T201454Z
UID:8092-1679077800-1679086800@ekpto.com
SUMMARY:St. Paddy’s Day Dance
DESCRIPTION:This dance will be held at American Martyrs School\, in the recreation room down by the basketball courts. \n$1.00 entrance fee. Hot dogs\, hamburgers\, sodas\, chips and cookies are .50 cents each. All dancers ages 14 and up are welcome.
URL:https://ekpto.com/event/paddys-day-dance-2022/
LOCATION:American Martyrs School – Recreation room by the basketball courts\, 701 15th Street\, Manhattan Beach\, CA\, 90266\, United States
CATEGORIES:Dance
END:VEVENT
BEGIN:VEVENT
DTSTART;TZID=America/Los_Angeles:20230217T183000
DTEND;TZID=America/Los_Angeles:20230217T210000
DTSTAMP:20260422T154809
CREATED:20221201T223408Z
LAST-MODIFIED:20221220T212212Z
UID:8068-1676658600-1676667600@ekpto.com
SUMMARY:Valentines Dance and Sweetheart Pizza Dinner
DESCRIPTION:$1.00 entrance fee. Hot dogs\, hamburgers\, sodas\, chips and cookies are .50 cents each. All dancers ages 14 and up are welcome. \nWhile the young adults are dancing\, the EKO will be holding a Parent Getting To Know Us dinner upstairs in the St. Kateri room from 7 – 8:30. RSVP will be required. More information to come at the January dance.
URL:https://ekpto.com/event/valentines-dance-and-sweetheart-pizza-dinner/
LOCATION:American Martyrs – O’Donnell Hall\, 700 15th Street\, Manhattan Beach\, CA\, 90266\, United States
CATEGORIES:Dance
END:VEVENT
BEGIN:VEVENT
DTSTART;TZID=America/Los_Angeles:20230113T183000
DTEND;TZID=America/Los_Angeles:20230113T210000
DTSTAMP:20260422T154809
CREATED:20221201T223243Z
LAST-MODIFIED:20221220T211844Z
UID:8065-1673634600-1673643600@ekpto.com
SUMMARY:Welcome Winter Dance
DESCRIPTION:$1.00 entrance fee. Hot dogs\, hamburgers\, sodas\, chips and cookies are .50 cents each. All dancers ages 14 and up are welcome. This dance will be held at American Martyrs School\, in the recreation room down by the basketball courts.
URL:https://ekpto.com/event/welcome-winter-dance/
LOCATION:American Martyrs School – Recreation room by the basketball courts\, 701 15th Street\, Manhattan Beach\, CA\, 90266\, United States
CATEGORIES:Dance
END:VEVENT
BEGIN:VEVENT
DTSTART;TZID=America/Los_Angeles:20221211T123000
DTEND;TZID=America/Los_Angeles:20221211T134500
DTSTAMP:20260422T154809
CREATED:20221028T181623Z
LAST-MODIFIED:20221202T201626Z
UID:7771-1670761800-1670766300@ekpto.com
SUMMARY:A Groovy Holiday - El Segundo Holiday Parade
DESCRIPTION:Join us as we usher in the Holiday Season by marching with the EKO in the El Segundo Holiday Parade. Sign up information will go out before Thanksgiving.
URL:https://ekpto.com/event/a-groovy-holiday-el-segundo-holiday-parade/
CATEGORIES:Other
END:VEVENT
BEGIN:VEVENT
DTSTART;TZID=America/Los_Angeles:20221202T183000
DTEND;TZID=America/Los_Angeles:20221202T210000
DTSTAMP:20260422T154809
CREATED:20220719T220516Z
LAST-MODIFIED:20221202T201641Z
UID:7347-1670005800-1670014800@ekpto.com
SUMMARY:Holiday Dress Up Dance
DESCRIPTION:$1.00 entrance fee. Hot dogs\, hamburgers\, sodas\, chips and cookies are .50 cents each. All dancers ages 14 and up are welcome.
URL:https://ekpto.com/event/holiday-dress-up-dance/
LOCATION:American Martyrs – O’Donnell Hall\, 700 15th Street\, Manhattan Beach\, CA\, 90266\, United States
CATEGORIES:Dance
END:VEVENT
BEGIN:VEVENT
DTSTART;TZID=America/Los_Angeles:20221119T130000
DTEND;TZID=America/Los_Angeles:20221119T143000
DTSTAMP:20260422T154809
CREATED:20221028T181432Z
LAST-MODIFIED:20221028T181432Z
UID:7768-1668862800-1668868200@ekpto.com
SUMMARY:Thanksgiving Floral Arrangement Class
DESCRIPTION:$25.00 per person\, limited to 15 people. Email Secretary@ekpto.org to sign up.
URL:https://ekpto.com/event/thanksgiving-floral-arrangement-class/
LOCATION:American Martyrs – O’Donnell Hall\, 700 15th Street\, Manhattan Beach\, CA\, 90266\, United States
CATEGORIES:Other
END:VEVENT
BEGIN:VEVENT
DTSTART;TZID=America/Los_Angeles:20221118T180000
DTEND;TZID=America/Los_Angeles:20221118T200000
DTSTAMP:20260422T154809
CREATED:20220719T220424Z
LAST-MODIFIED:20221028T181257Z
UID:7345-1668794400-1668801600@ekpto.com
SUMMARY:EKO Talent Show
DESCRIPTION:EKO Talent Show hosted by DJ Norma. Hot Dogs and drinks available. $1.00 entrance fee\, 50 cents per food item.
URL:https://ekpto.com/event/eko-talent-show/
LOCATION:American Martyrs – O’Donnell Hall\, 700 15th Street\, Manhattan Beach\, CA\, 90266\, United States
CATEGORIES:Dance
END:VEVENT
BEGIN:VEVENT
DTSTART;TZID=America/Los_Angeles:20221116T171500
DTEND;TZID=America/Los_Angeles:20221116T190000
DTSTAMP:20260422T154809
CREATED:20220725T163055Z
LAST-MODIFIED:20220725T163055Z
UID:7354-1668618900-1668625200@ekpto.com
SUMMARY:EKO November Board Meeting at American Martyers' Parish House
DESCRIPTION:All EKO Board meetings are open to our EKO families. We invite you to join us to see what’s coming up and to provide any input you might have to improve our services and events.
URL:https://ekpto.com/event/eko-november-board-meeting-at-american-martyers-parish-house/
LOCATION:American Martyrs Parish House\, 659th 15th Street\, Manhattan Beach\, CA\, 90266\, United States
CATEGORIES:Board Meeting
END:VEVENT
BEGIN:VEVENT
DTSTART;TZID=America/Los_Angeles:20221028T173000
DTEND;TZID=America/Los_Angeles:20221028T200000
DTSTAMP:20260422T154809
CREATED:20220719T220334Z
LAST-MODIFIED:20220812T192551Z
UID:7343-1666978200-1666987200@ekpto.com
SUMMARY:Halloween Haunt Dance and Costume Contest
DESCRIPTION:
URL:https://ekpto.com/event/halloween-haunt-dance/
LOCATION:American Martyrs – O’Donnell Hall\, 700 15th Street\, Manhattan Beach\, CA\, 90266\, United States
CATEGORIES:Dance
END:VEVENT
END:VCALENDAR